BEGIN:VCALENDAR
VERSION:2.0
PRODID:-//Webinare by SCHLÖMER &amp; SPERL Rechtsanwälte - ECPv6.9.0//NONSGML v1.0//EN
CALSCALE:GREGORIAN
METHOD:PUBLISH
X-ORIGINAL-URL:https://webinare.schloemer-sperl.de
X-WR-CALDESC:Veranstaltungen für Webinare by SCHLÖMER &amp; SPERL Rechtsanwälte
REFRESH-INTERVAL;VALUE=DURATION:PT1H
X-Robots-Tag:noindex
X-PUBLISHED-TTL:PT1H
BEGIN:VTIMEZONE
TZID:Europe/Berlin
BEGIN:DAYLIGHT
TZOFFSETFROM:+0100
TZOFFSETTO:+0200
TZNAME:CEST
DTSTART:20250330T010000
END:DAYLIGHT
BEGIN:STANDARD
TZOFFSETFROM:+0200
TZOFFSETTO:+0100
TZNAME:CET
DTSTART:20251026T010000
END:STANDARD
BEGIN:DAYLIGHT
TZOFFSETFROM:+0100
TZOFFSETTO:+0200
TZNAME:CEST
DTSTART:20260329T010000
END:DAYLIGHT
BEGIN:STANDARD
TZOFFSETFROM:+0200
TZOFFSETTO:+0100
TZNAME:CET
DTSTART:20261025T010000
END:STANDARD
TZID:Europe/Paris
BEGIN:DAYLIGHT
TZOFFSETFROM:+0100
TZOFFSETTO:+0200
TZNAME:CEST
DTSTART:20260329T010000
END:DAYLIGHT
BEGIN:STANDARD
TZOFFSETFROM:+0200
TZOFFSETTO:+0100
TZNAME:CET
DTSTART:20261025T010000
END:STANDARD
END:VTIMEZONE
BEGIN:VEVENT
DTSTART;TZID=Europe/Berlin:20250703T183000
DTEND;TZID=Europe/Berlin:20260618T183000
DTSTAMP:20260424T165505
CREATED:20250119T113737Z
LAST-MODIFIED:20260119T143630Z
UID:2664-1751567400-1781807400@webinare.schloemer-sperl.de
SUMMARY:hemmer for free
DESCRIPTION:Jeden zweiten Donnerstag – immer 18:30 Uhr \nWichtige Themen für Deine Uni-Prüfungen und Dein 1. und 2. Staatsexamen  \nGratis für ALLE!!! \nDein Registrierungs-LinkVerlaufsplan
URL:https://webinare.schloemer-sperl.de/webinar/hemmer-for-free/
LOCATION:Zoom-Webinar\, Germany
CATEGORIES:Webinar
ATTACH;FMTTYPE=image/jpeg:https://webinare.schloemer-sperl.de/wp-content/uploads/2025/01/hemmer-for-free.001.jpeg
ORGANIZER;CN="SCHL%C3%96MER & SPERL Rechtsanw%C3%A4lte":MAILTO:info@schloemer-sperl.de
END:VEVENT
BEGIN:VEVENT
DTSTART;TZID=Europe/Berlin:20260202T080000
DTEND;TZID=Europe/Berlin:20260704T170000
DTSTAMP:20260424T165505
CREATED:20250922T153358Z
LAST-MODIFIED:20260201T145900Z
UID:3088-1770019200-1783184400@webinare.schloemer-sperl.de
SUMMARY:Coaching für mündliche Prüfung - Webinar ON DEMAND
DESCRIPTION:Das nächste Live Webinar „Coaching für Deine mündliche Prüfung“ findet erst in einigen Wochen oder gar Monaten statt? Buche hier das Webinar on demand. \nDas Coaching für die mündliche Prüfung bereitet Dich optimal vor. \n\n\n\n\n\nDas richtig gute Vorgespräch\nDer exzellente Auftritt in der Prüfung\nDie überzeugende verbale und nonverbale Kommunikation\nDer ideale Umgang mit versch. Typen von Prüfer/innen\nDie drei Top-Hacks\n\n\n\n\n\nBeim Webinar on demand erhältst Du: \n\n\n\n\n\nZugang zur Aufzeichnung des Webinars (ca. 2:10 h; kein Download) inkl. der 3 Top-Hacks\nUmfassendes Workbook (PDF) zum Download\nZusätzliche Begleitunterlagen (PDF) mit weiteren Tipps und Tricks und Standard- / Klassikerfragen für die mündliche Prüfung zum Download\n\n\n\n\n\nPreis: € 18\,90 (inkl. 19 % USt.\, € 3\,02) \nAnmeldung und Zugang
URL:https://webinare.schloemer-sperl.de/webinar/coaching-fuer-muendliche-pruefung-webinar-on-demand/
LOCATION:Zoom-Webinar\, Germany
CATEGORIES:Webinar on demand
ATTACH;FMTTYPE=image/jpeg:https://webinare.schloemer-sperl.de/wp-content/uploads/2025/09/Muendliche-Pruefung.pdf-1.jpg
ORGANIZER;CN="SCHL%C3%96MER & SPERL Rechtsanw%C3%A4lte":MAILTO:info@schloemer-sperl.de
END:VEVENT
BEGIN:VEVENT
DTSTART;TZID=Europe/Berlin:20260510T090000
DTEND;TZID=Europe/Berlin:20260531T150000
DTSTAMP:20260424T165505
CREATED:20260208T123728Z
LAST-MODIFIED:20260208T124251Z
UID:3241-1778403600-1780239600@webinare.schloemer-sperl.de
SUMMARY:Crash-Kurs Öffentliches Recht
DESCRIPTION:Vom 10.05. bis 31.05.2026 \nMit RAin Julia Witte-Issa\, RAuN Christian Pope und RA Dr. Uwe Schlömer \nWeitere Infos hier
URL:https://webinare.schloemer-sperl.de/webinar/crash-kurs-oeffentliches-recht/
LOCATION:Zoom-Webinar\, Germany
CATEGORIES:Webinar
ATTACH;FMTTYPE=image/png:https://webinare.schloemer-sperl.de/wp-content/uploads/2026/02/Gemini_Generated_Image_d1orzcd1orzcd1or.png
ORGANIZER;CN="SCHL%C3%96MER & SPERL Rechtsanw%C3%A4lte":MAILTO:info@schloemer-sperl.de
END:VEVENT
BEGIN:VEVENT
DTSTART;TZID=Europe/Berlin:20260519T100000
DTEND;TZID=Europe/Berlin:20260519T113000
DTSTAMP:20260424T165505
CREATED:20260303T174019Z
LAST-MODIFIED:20260323T092342Z
UID:3266-1779184800-1779190200@webinare.schloemer-sperl.de
SUMMARY:Neue Pflicht im eCommerce: Die elektronische Widerrufsfunktion
DESCRIPTION:Neue Pflichten im eCommerce ab dem 19.06.2026: Die elektronische Widerrufsfunktion (sog. Widerrufsbutton)Ab dem 19.06.2026 sind Unternehmer\, die mit Verbrauchern im eCommerce Fernabsatzverträge abschließen\, dazu verpflichtet\, Verbrauchern eine elektronische Widerrufsfunktion\, den sog. Widerrufsbutton\, zur Verfügung zu stellen. \n\nDie neue Rechtslage ab dem 19.06.2026 \n\nAusgestaltung / Platzierung der Widerrufsfunktion \n\nFunktionsweise der Widerrufsfunktion \n\nEingangsbestätigung für den Verbraucher \n\nRisiken einer fehlenden / fehlerhaften Umsetzung \nReferent:\nRechtsanwalt Jörg Dittrich\, LL.M. oec.\nFachanwalt für gewerblichen Rechtsschutz\nFachanwalt für Informationstechnologierecht \nTitelbild: iStock / Wirestock \nWeiter zur Anmeldung >
URL:https://webinare.schloemer-sperl.de/webinar/widerrufsbutton/
LOCATION:Zoom-Webinar\, Germany
CATEGORIES:Webinar
ATTACH;FMTTYPE=image/jpeg:https://webinare.schloemer-sperl.de/wp-content/uploads/2026/03/iStock145485571-Wirestock-scaled.jpg
ORGANIZER;CN="SCHL%C3%96MER & SPERL Rechtsanw%C3%A4lte":MAILTO:info@schloemer-sperl.de
END:VEVENT
BEGIN:VEVENT
DTSTART;TZID=Europe/Berlin:20260601T090000
DTEND;TZID=Europe/Berlin:20260630T150000
DTSTAMP:20260424T165505
CREATED:20260210T071728Z
LAST-MODIFIED:20260210T071729Z
UID:3249-1780304400-1782831600@webinare.schloemer-sperl.de
SUMMARY:Crash-Kurs Zivilrecht
DESCRIPTION:im Juni 2026 \nInfos folgen hier
URL:https://webinare.schloemer-sperl.de/webinar/crash-kurs-zivilrecht/
LOCATION:Zoom-Webinar\, Germany
CATEGORIES:Webinar
ATTACH;FMTTYPE=image/png:https://webinare.schloemer-sperl.de/wp-content/uploads/2026/02/Gemini_Generated_Image_np9bphnp9bphnp9b.png
ORGANIZER;CN="SCHL%C3%96MER & SPERL Rechtsanw%C3%A4lte":MAILTO:info@schloemer-sperl.de
END:VEVENT
BEGIN:VEVENT
DTSTART;TZID=Europe/Berlin:20260621T170000
DTEND;TZID=Europe/Berlin:20260621T193000
DTSTAMP:20260424T165505
CREATED:20241218T163305Z
LAST-MODIFIED:20260311T173813Z
UID:2563-1782061200-1782070200@webinare.schloemer-sperl.de
SUMMARY:6 aus 6 - Öffentliches Recht
DESCRIPTION:Die wichtigsten 6 Entscheidungen im öffentlichen Recht aus den letzten 6 Monaten. \nExamensrelevante ‚heiße‘ Entscheidungen für das 1. und 2. juristisches Staatsexamen. \nAnspruchsvoll und anschaulich aufbereitet und vorgetragen von \n\n\n\n\n\nRAuN Christian Pope\nRA Dr. Uwe Schlömer\n\n\n\nUmfangreiches digitales Unterlagenpaket mit tollen Übersichten\, Aufbauschemata\, Tipps & Tricks u.v.m. \nPreis: 15\,90 Euro  \n\nNEU! Gratis vorab:  \nDie aktuelle Entscheidung im ÖR – Der TALK: 18.06.26 – 18:30 – LINK hierzu \nAnmeldung hier
URL:https://webinare.schloemer-sperl.de/webinar/6-aus-6-im-oeffentlichen-recht/
LOCATION:Zoom-Webinar\, Germany
CATEGORIES:Webinar
ATTACH;FMTTYPE=image/png:https://webinare.schloemer-sperl.de/wp-content/uploads/2024/12/Unbenannt.png
ORGANIZER;CN="SCHL%C3%96MER & SPERL Rechtsanw%C3%A4lte":MAILTO:info@schloemer-sperl.de
END:VEVENT
BEGIN:VEVENT
DTSTART;TZID=Europe/Berlin:20260630T100000
DTEND;TZID=Europe/Berlin:20260630T113000
DTSTAMP:20260424T165505
CREATED:20260303T181830Z
LAST-MODIFIED:20260323T092655Z
UID:3285-1782813600-1782819000@webinare.schloemer-sperl.de
SUMMARY:Das neue Recht auf Reparatur und Änderungen im Gewährleistungsrecht
DESCRIPTION:Das neue Recht auf Reparatur / Änderungen im und Ergänzungen zum gesetzlichen Gewährleistungsrecht ab 31.07.2026Die sog. Recht-auf-Reparatur-Richtlinie der EU 2024/1799 ist bis zum 31.07.2026 umzusetzen. Verbraucherinnen und Verbraucher sollen in Bezug auf bestimme Produkte ein neues „Recht auf Reparatur“ bekommen.\nDarüber hinaus werden die gesetzlichen Gewährleistungsvorschriften angepasst. Händler werden künftig unter anderem auch dazu verpflichtet\, Verbraucher über die Besonderheiten bei der Nacherfüllung zu informieren. Nach der Durchführung einer Reparatur verlängert sich künftig die Gewährleistungsfrist einmalig um ein weiteres Jahr. \n\nDie neue Rechtslage ab dem 31.07.2026 \n\nReparierbarkeit als übliche Beschaffenheit \n\nErsatzlieferung einer überholten Ware?! \n\nSonderregelung für die Verjährung nach der Durchführung einer Reparatur \n\nInformation über Wahlrecht und Verjährungsverlängerung \n\nReparaturverpflichtung für Hersteller/Händler \n\nErsatzteile und Werkzeuge \n\nInformation über die Reparaturverpflichtung und Angaben über Richtpreise \n\nDas europäische Formular für Reparaturinformationen \nReferent:\nRechtsanwalt Jörg Dittrich\, LL.M. oec.\nFachanwalt für gewerblichen Rechtsschutz\nFachanwalt für Informationstechnologierecht \nTitelbild: iStock / Supatman \nWeiter zur Anmeldung >
URL:https://webinare.schloemer-sperl.de/webinar/recht-auf-reparatur/
LOCATION:Zoom-Webinar\, Germany
ATTACH;FMTTYPE=image/jpeg:https://webinare.schloemer-sperl.de/wp-content/uploads/2026/03/iStock2193514657-Supatman-scaled.jpg
ORGANIZER;CN="SCHL%C3%96MER & SPERL Rechtsanw%C3%A4lte":MAILTO:info@schloemer-sperl.de
END:VEVENT
BEGIN:VEVENT
DTSTART;TZID=Europe/Berlin:20260705T110000
DTEND;TZID=Europe/Berlin:20260705T130000
DTSTAMP:20260424T165505
CREATED:20250906T135124Z
LAST-MODIFIED:20260201T145028Z
UID:3082-1783249200-1783256400@webinare.schloemer-sperl.de
SUMMARY:Coaching für Deine perfekte mündliche Prüfung
DESCRIPTION:Du hast viele – oder auch nicht so viele – Klausuren für das schriftliche Examen\ngeschrieben\, aber nie für die Mündliche geübt? \nAlle Tipps und Tricks für die mündliche Prüfung im 1. und 2. Examen.\nIn der mündlichen Prüfung noch mal richtig punkten! \nDas Prüfungs-Coaching mit RA Dr. Uwe Schlömer \n\n\n\nDas perfekte Vorgespräch\nDer exzellente Aufritt\nDie überzeugende verbale und nonverbale Kommunikation\nDer ideale Umgang mit unfairen / netten / unklaren Prüfer:innen\nUmfassendes digitales Unterlagenpaket – inkl. typischer Fragen\n\n\n\nPreis: 19.90 € \nANMELDUNGFeedbacks von ehemaligen Teilnehmer:innen: \n\n„Mega praktische Tipps“\n„Klasse Tools gegen Prüfungspanik“\n„Jetzt fühle ich mich viel sicherer!“\n„Am besten fand ich die Tricks für den Fall\, dass ich auf Fragen keine Antwort weiß.“\n„Das beste waren die Top-Hacks am Schluss“\n„Sehr gut war\, dass auf die unterschiedlichen Typen von Prüferinnen eingegangen wurde“\n„Auch wenn ich nicht alles umsetze – die psychologischen Tricks fand ich super“.\n„Besonders gut gefallen hat mir\, die Ideen\, wie man Fragen kriegt oder sie abwehrt“\n„Überragend waren die Ratsschläge zur nonverbalen Kommunikation“.\n\nWeiterempfehlungsquote: 98% !!!
URL:https://webinare.schloemer-sperl.de/webinar/coaching-fuer-deine-perfekte-muendliche-pruefung/
LOCATION:Zoom-Webinar\, Germany
CATEGORIES:Webinar
ATTACH;FMTTYPE=image/jpeg:https://webinare.schloemer-sperl.de/wp-content/uploads/2025/09/Coaching-MP-Juli-2026.jpg
ORGANIZER;CN="SCHL%C3%96MER & SPERL Rechtsanw%C3%A4lte":MAILTO:info@schloemer-sperl.de
END:VEVENT
BEGIN:VEVENT
DTSTART;TZID=Europe/Berlin:20260710T100000
DTEND;TZID=Europe/Berlin:20260710T120000
DTSTAMP:20260424T165505
CREATED:20250330T143606Z
LAST-MODIFIED:20260304T102746Z
UID:2946-1783677600-1783684800@webinare.schloemer-sperl.de
SUMMARY:Ein Jahr Barrierefreiheit im eCommerce. Was hat sich getan?
DESCRIPTION:Ein Jahr Barrierefreiheit im eCommerce. Was hat sich getan?Am 28.06.2025 ist das Barrierefreiheitsstärkungsgesetz (BFSG) in Kraft getreten; es setzt die Richtlinie der EU zur Barrierefreiheit (European Accessibility Act [EAA]) in Deutschland um. \nDas Gesetz definiert Barrierefreiheitsanforderungen für Produkte und Dienstleistungen – unter anderem auch für den eCommerce. \nWir erläutern\, was sich im letzten Jahr seit dem Inkrafttreten getan hat. Welche Auswirkungen hatten die neuen Vorgaben auf Präsenzen im Internet (z.B. Online-Shops\, aber auch Homepages von Unternehmen)? Welche Konsequenzen folgten bei Nichtumsetzung der Barrierefreiheitsanforderungen? \n\nGrundlagen zur Barrierefreiheit im Internet \n\nAnwendbarkeit des Barrierefreiheitsstärkungsgesetzes (BFSG) \n\nPflichten für Unternehmen \n\nDie Umsetzung von Barrierefreiheit in der Praxis \n\nRisiken / Haftungsfragen bei Verstößen gegen das BFSG \nReferent:\nRechtsanwalt Jörg Dittrich\, LL.M. oec.\nFachanwalt für gewerblichen Rechtsschutz\nFachanwalt für Informationstechnologierecht \nTitelbild: iStock / Bakhtiar Zein \nWeiter zur Anmeldung >
URL:https://webinare.schloemer-sperl.de/webinar/barrierefreiheit-im-ecommerce/
LOCATION:Zoom-Webinar\, Germany
ATTACH;FMTTYPE=image/jpeg:https://webinare.schloemer-sperl.de/wp-content/uploads/2025/03/iStock-2185824737_bakhtiar_zein.jpg
ORGANIZER;CN="DGM-Akademie":MAILTO:dgm@dgm-moebel.de
END:VEVENT
BEGIN:VEVENT
DTSTART;TZID=Europe/Berlin:20260710T140000
DTEND;TZID=Europe/Berlin:20260710T160000
DTSTAMP:20260424T165505
CREATED:20260417T125527Z
LAST-MODIFIED:20260417T134600Z
UID:3323-1783692000-1783699200@webinare.schloemer-sperl.de
SUMMARY:KI-Marketing & Recht. Künstliche Intelligenz in der Werbung
DESCRIPTION:KI-Marketing & Recht: Rechtliche Fragen im Zusammenhang mit der Nutzung von KI-Systemen in der WerbungSchon heute binden Unternehmen KI-generierte Inhalte (Bild-\, Ton-\, Video- oder Textinhalte) in der Werbung ein – sei es in Werbeanzeigen\, auf Websites oder in Social-Media-Kanälen.\nHier stellt sich nicht nur die Frage nach dem rechtlichen Schutz der KI-generierten Inhalte\, sondern es sind diese ggfs. als „KI-generiert“ zu kennzeichnen. Ab dem 2. August 2026 gelten dann auch die in der KI-Verordnung geregelten Transparenzpflichten. \n\nZum rechtlichen Schutz von KI-Ergebnissen \n\nErstellung von Werbeanzeigen und/oder Produktbildern mittels KI \n\nKI-generierte Darstellung von Werbepersonen (AI Models / Virtuelle Influencer) \n\nPflicht zur Kennzeichnung von KI-generierten Inhalten (u.a. auch Deepfakes) \n\nInformationspflichten beim Einsatz von Chatbots \n\nRisiken / Haftungsfragen bei der unzulässigen Nutzung von KI-Inhalten \n\nHaftungsrisiken beim Einsatz von Chatbots\, KI-Assistenten und/oder KI-Agenten \nReferent:\nRechtsanwalt Jörg Dittrich\, LL.M. oec.\nFachanwalt für gewerblichen Rechtsschutz\nFachanwalt für Informationstechnologierecht \nTitelbild: iStock / ArtemisDiana \nWeiter zur Anmeldung >
URL:https://webinare.schloemer-sperl.de/webinar/ki-marketing/
LOCATION:Zoom-Webinar\, Germany
ATTACH;FMTTYPE=image/jpeg:https://webinare.schloemer-sperl.de/wp-content/uploads/2026/04/iStock-1467650523_artemisdiana.jpg
ORGANIZER;CN="SCHL%C3%96MER & SPERL Rechtsanw%C3%A4lte":MAILTO:info@schloemer-sperl.de
END:VEVENT
BEGIN:VEVENT
DTSTART;TZID=Europe/Berlin:20260827T100000
DTEND;TZID=Europe/Berlin:20260827T113000
DTSTAMP:20260424T165505
CREATED:20260303T180449Z
LAST-MODIFIED:20260323T092512Z
UID:3276-1787824800-1787830200@webinare.schloemer-sperl.de
SUMMARY:Harmonisierte Pflichtangaben zu Gewährleistung und Garantien
DESCRIPTION:Neue Informationspflichten im Handel ab dem 27.09.2026: Harmonisierte Pflichtangaben zu Gewährleistung und GarantienAb dem 27.09.2026 müssen Unternehmen – im stationären Handel wie auch im eCommerce – in hervorgehobener Weise mittels einer harmonisierten Mitteilung über das gesetzliche Gewährleistungsrecht informieren und Produkte\, für die eine Herstellergarantie besteht\, mittels einer harmonisierten Kennzeichnung markieren. \n\nDie neue Rechtslage ab dem 27.09.2026 \n\nAusgestaltung der Information / Kennzeichnung \n\nPlatzierung im eCommerce und/oder im Verkaufsraum \n\nRisiken einer fehlenden / fehlerhaften Umsetzung \nReferent:\nRechtsanwalt Jörg Dittrich\, LL.M. oec.\nFachanwalt für gewerblichen Rechtsschutz\nFachanwalt für Informationstechnologierecht \nTitelbild: iStock / Supatman \nWeiter zur Anmeldung >
URL:https://webinare.schloemer-sperl.de/webinar/harmonisierte-pflichtangaben/
LOCATION:Zoom-Webinar\, Germany
ATTACH;FMTTYPE=image/jpeg:https://webinare.schloemer-sperl.de/wp-content/uploads/2026/03/iStock2173322425-Supatman-scaled.jpg
ORGANIZER;CN="SCHL%C3%96MER & SPERL Rechtsanw%C3%A4lte":MAILTO:info@schloemer-sperl.de
END:VEVENT
BEGIN:VEVENT
DTSTART;TZID=Europe/Paris:20261029T160000
DTEND;TZID=Europe/Paris:20261029T180000
DTSTAMP:20260424T165505
CREATED:20160316T115245Z
LAST-MODIFIED:20260303T171900Z
UID:618-1793289600-1793296800@webinare.schloemer-sperl.de
SUMMARY:Review-Marketing & Reputationsmanagement
DESCRIPTION:Online-Bewertungen effektiv nutzen.\nDen eigenen ‚guten Ruf‘ im Internet schützen. Ein Großteil der Unternehmen nutzt die Chancen\, die Online-Bewertungen heutzutage bieten\, bisher nur zurückhaltend – teils aus Unwissenheit\, teils aus Angst vor schlechten Bewertungen.\nWir erläutern\, was beim sog. Review-Marketing zu beachten ist und wie man sich gegen ungerechtfertigte Bewertungen zur Wehr setzt. \n\nDie Bedeutung von Kundenbewertungen im Internet \n\nZu den Voraussetzungen einer zulässigen Werbung mit Kundenbewertungen \n\nNachfragen beim Kunden zur Abgabe von Bewertungen \n\nKundenbewertung nur nach Absprache: Geht das? \n\nSind Gegenleistungen für Kundenbewertungen möglich? \n\nRezensionen durch Produkttester: Erlaubt? \n\nBewertungen einkaufen: Ist das zulässig? \n\nReputations-Management: Abwehr schlechter Bewertungen \n\nWann haften die Betreiber von Bewertungsportalen? \nReferent:\nRechtsanwalt Jörg Dittrich\, LL.M. oec.\nFachanwalt für gewerblichen Rechtsschutz\nFachanwalt für Informationstechnologierecht \n  \nTitelfoto: iStock / Jinda Noipho \nWeiter zur Anmeldung >
URL:https://webinare.schloemer-sperl.de/webinar/review-marketing-reputationsmanagement/
LOCATION:Zoom-Webinar\, Germany
CATEGORIES:Webinar
ATTACH;FMTTYPE=image/jpeg:https://webinare.schloemer-sperl.de/wp-content/uploads/2025/01/iStock-1685521182.jpg
ORGANIZER;CN="DGM-Akademie":MAILTO:dgm@dgm-moebel.de
END:VEVENT
END:VCALENDAR